Workbook

Sheet Proposed Budget
B1: Proposed Budget
B2: Organization ________________________________________________
B3: Period of Performance ___/___/___ to ___/___/___
B5: Budgets must be expended and periods of performance must be completed as indicated in the Announcement of Opportunity
B6: BUDGET ITEM | C6: WSGC Federal Funded Activity | D6: Cost-Share/Match In Kind Funded Activity | E6: TOTAL
C8: Match is required on all faculty, outreach, and industry proposals. Add additional match columns if there is more than one source of matching funds. Indicate the source of each match.
B9: Salaries and Fringe Total | C9: =SUM(C11:C14) -> 0 | D9: =SUM(D11:D14) -> 0 | E9: =SUM(C9:D9) -> 0
B10: Include name and role for each indvidual receiving salary and fringe through WSGC and Match funding.
B11: Name/Role #1 | E11: =SUM(C11:D11) -> 0
B12: Name/Role #2 | E12: =SUM(C12:D12) -> 0
B13: Name/Role #3 | E13: =SUM(C13:D13) -> 0
B14: Name/Role #4
B15: Travel Total | C15: =SUM(C17:C21) -> 0 | D15: =SUM(D17:D21) -> 0 | E15: =SUM(C15:D15) -> 0
B16: Include Location
B17: Annual Wisconsin Space Conference (travel/presentation) | E17: =SUM(C17:D17) -> 0
B18: Location #1 | E18: =SUM(C18:D18) -> 0
B19: Location #2 | E19: =SUM(C19:D19) -> 0
B20: Location #3 | E20: =SUM(C20:D20) -> 0
B21: Location #4
B22: Participant Support Total | C22: =SUM(C24:C27) -> 0 | D22: =SUM(D24:D27) -> 0 | E22: =SUM(C22:D22) -> 0
B23: Include name and role for each student/indvidual receiving a stipend through WSGC and Match funding.
B24: Name/Role #1 | E24: =SUM(C24:D24) -> 0
B25: Name/Role #2 | E25: =SUM(C25:D25) -> 0
B26: Name/Role #3 | E26: =SUM(C26:D26) -> 0
B27: Name/Role #4
B28: Materials and Supplies Total | C28: =SUM(C29:C32) -> 0 | D28: =SUM(D29:D32) -> 0 | E28: =SUM(C28:D28) -> 0
B29: Supplies and Expense #1 | E29: =SUM(C29:D29) -> 0
B30: Supplies and Expense #2 | E30: =SUM(C30:D30) -> 0
B31: Supplies and Expense #3 | E31: =SUM(C31:D31) -> 0
B32: Supplies and Expense #4
B33: Other Direct Costs | C33: =SUM(C34:C36) -> 0 | D33: =SUM(D34:D36) -> 0 | E33: =SUM(C33:D33) -> 0
B34: Other Direct Cost #1 | E34: =SUM(C34:D34) -> 0
B35: Other Direct Cost #2 | E35: =SUM(C35:D35) -> 0
B36: Other Direct Cost #3
B37: Indirect Costs | C37: =SUM(C38:C39) -> 0 | D37: =SUM(D38:D39) -> 0 | E37: =SUM(C37:D37) -> 0
B38: Match Only. Include Indirect Rate and basis | C38: XXXX | E38: =SUM(D38) -> 0
B40: Total | C40: =SUM(C37,C33,C28,C22,C15,C9) -> 0 | D40: =SUM(D37,D33,D28,D22,D15,D9) -> 0 | E40: =SUM(E37,E33,E28,E22,E15,E9) -> 0
B43: Authorized Organizational Signature | E43: Date
B46: PI Signature | E46: Date

Sheet Invoice Template
B1: WSGC Invoice/Cost-Share Reporting
B2: NASA Grant # 80NSSC25M7122 WSGC Award # ______________________________ Period of Performance ____________ to ____________
B3: Organization ____________________________________ Organization Invoice/Reference # _______________________________
B5: Please refer to the terms and conditions of the Award Agreement for reporting information. A budget modification request must be submitted to the WSGC Office for variations ≥ 10% of the detail budget accepted by WSGC.
B6: BUDGET ITEM | E6: APPROVED BUDGET | G6: INVOICE #1 | I6: INVOICE #2 | K6: INVOICE #3 | M6: FINAL INVOICE | O6: CUMULATIVE TOTAL | Q6: BUDGET BALANCE
E7: WSGC Funds Awarded ________________ | F7: Cost-Share Funds Committed __________________
E8: WSGC Federal Funded Activity | F8: Cost-Share/Match In Kind Funded Activity | G8: WSGC Funded | H8: Cost-Share Funded | I8: WSGC Funded | J8: Cost-Share Funded | K8: WSGC Funded | L8: Cost-Share Funded | M8: WSGC Funded | N8: Cost-Share Funded | O8: WSGC Funded | P8: Cost-Share Funded | Q8: WSGC Funded | R8: Cost-Share Funded
B9: The budget information will automatically populate based on information put in the project budget tab | G9: Attatch Invoice and Supporting Documentation | O9: Total Expenditures Reported to Date | Q9: Total Balance
B10: Salaries and Fringe Total | E10: =SUM(E11:E15) -> 0 | F10: =SUM(F11:F15) -> 0 | G10: =SUM(G11:G15) -> 0 | H10: =SUM(H11:H15) -> 0 | I10: =SUM(I11:I15) -> 0 | J10: =SUM(J11:J15) -> 0 | K10: =SUM(K11:K15) -> 0 | L10: =SUM(L11:L15) -> 0 | ... N10: =SUM(N11:N15) -> 0 | O10: =G10+I10+K10+M10 -> 0 | P10: =H10+J10+L10+N10 -> 0 | Q10: =E10-O10 -> 0 | R10: =F10-P10 -> 0
B11: Include name and role for each indvidual receiving salary and fringe through WSGC and Match funding.
B12: ='Proposed Budget'!B11 -> Name/Role #1 | E12: ='Proposed Budget'!C11 -> 0 | F12: ='Proposed Budget'!D11 -> 0 | O12: =G12+I12+K12+M12 -> 0 | P12: =H12+J12+L12+N12 -> 0 | Q12: =E12-O12 -> 0 | R12: =F12-P12 -> 0
B13: ='Proposed Budget'!B12 -> Name/Role #2 | E13: ='Proposed Budget'!C12 -> 0 | F13: ='Proposed Budget'!D12 -> 0 | O13: =G13+I13+K13+M13 -> 0 | P13: =H13+J13+L13+N13 -> 0 | Q13: =E13-O13 -> 0 | R13: =F13-P13 -> 0
B14: ='Proposed Budget'!B13 -> Name/Role #3 | E14: ='Proposed Budget'!C13 -> 0 | F14: ='Proposed Budget'!D13 -> 0 | O14: =G14+I14+K14+M14 -> 0 | P14: =H14+J14+L14+N14 -> 0 | Q14: =E14-O14 -> 0 | R14: =F14-P14 -> 0
B15: ='Proposed Budget'!B14 -> Name/Role #4 | E15: ='Proposed Budget'!C14 -> 0 | F15: ='Proposed Budget'!D14 -> 0 | O15: =G15+I15+K15+M15 -> 0 | P15: =H15+J15+L15+N15 -> 0 | Q15: =E15-O15 -> 0 | R15: =F15-P15 -> 0
B16: Travel Total | E16: =SUM(E17:E22) -> 0 | F16: =SUM(F17:F22) -> 0 | G16: =SUM(G17:G22) -> 0 | H16: =SUM(H17:H22) -> 0 | I16: =SUM(I17:I22) -> 0 | J16: =SUM(J17:J22) -> 0 | K16: =SUM(K17:K22) -> 0 | L16: =SUM(L17:L22) -> 0 | ... N16: =SUM(N17:N22) -> 0 | O16: =G16+I16+K16+M16 -> 0 | P16: =H16+J16+L16+N16 -> 0 | Q16: =E16-O16 -> 0 | R16: =F16-P16 -> 0
B17: Include Location
B18: Annual Wisconsin Space Conference (travel/presentation) | E18: ='Proposed Budget'!C17 -> 0 | F18: ='Proposed Budget'!D17 -> 0 | O18: =G18+I18+K18+M18 -> 0 | P18: =H18+J18+L18+N18 -> 0 | Q18: =E18-O18 -> 0 | R18: =F18-P18 -> 0
B19: ='Proposed Budget'!B18 -> Location #1 | E19: ='Proposed Budget'!C18 -> 0 | F19: ='Proposed Budget'!D18 -> 0 | O19: =G19+I19+K19+M19 -> 0 | P19: =H19+J19+L19+N19 -> 0 | Q19: =E19-O19 -> 0 | R19: =F19-P19 -> 0
B20: ='Proposed Budget'!B19 -> Location #2 | E20: ='Proposed Budget'!C19 -> 0 | F20: ='Proposed Budget'!D19 -> 0 | O20: =G20+I20+K20+M20 -> 0 | P20: =H20+J20+L20+N20 -> 0 | Q20: =E20-O20 -> 0 | R20: =F20-P20 -> 0
B21: ='Proposed Budget'!B20 -> Location #3 | E21: ='Proposed Budget'!C20 -> 0 | F21: ='Proposed Budget'!D20 -> 0 | O21: =G21+I21+K21+M21 -> 0 | P21: =H21+J21+L21+N21 -> 0 | Q21: =E21-O21 -> 0 | R21: =F21-P21 -> 0
B22: ='Proposed Budget'!B21 -> Location #4 | E22: ='Proposed Budget'!C21 -> 0 | F22: ='Proposed Budget'!D21 -> 0 | O22: =G22+I22+K22+M22 -> 0 | P22: =H22+J22+L22+N22 -> 0 | Q22: =E22-O22 -> 0 | R22: =F22-P22 -> 0
B23: Participant Support Total | E23: =SUM(E24:E28) -> 0 | F23: =SUM(F24:F28) -> 0 | G23: =SUM(G24:G28) -> 0 | H23: =SUM(H24:H28) -> 0 | I23: =SUM(I24:I28) -> 0 | J23: =SUM(J24:J28) -> 0 | K23: =SUM(K24:K28) -> 0 | L23: =SUM(L24:L28) -> 0 | ... N23: =SUM(N24:N28) -> 0 | O23: =G23+I23+K23+M23 -> 0 | P23: =H23+J23+L23+N23 -> 0 | Q23: =E23-O23 -> 0 | R23: =F23-P23 -> 0
B24: Include name and role for each student/indvidual receiving a stipend through WSGC and Match funding.
B25: ='Proposed Budget'!B24 -> Name/Role #1 | E25: ='Proposed Budget'!C24 -> 0 | F25: ='Proposed Budget'!D24 -> 0 | O25: =G25+I25+K25+M25 -> 0 | P25: =H25+J25+L25+N25 -> 0 | Q25: =E25-O25 -> 0 | R25: =F25-P25 -> 0
B26: ='Proposed Budget'!B25 -> Name/Role #2 | E26: ='Proposed Budget'!C25 -> 0 | F26: ='Proposed Budget'!D25 -> 0 | O26: =G26+I26+K26+M26 -> 0 | P26: =H26+J26+L26+N26 -> 0 | Q26: =E26-O26 -> 0 | R26: =F26-P26 -> 0
B27: ='Proposed Budget'!B26 -> Name/Role #3 | E27: ='Proposed Budget'!C26 -> 0 | F27: ='Proposed Budget'!D26 -> 0 | O27: =G27+I27+K27+M27 -> 0 | P27: =H27+J27+L27+N27 -> 0 | Q27: =E27-O27 -> 0 | R27: =F27-P27 -> 0
B28: ='Proposed Budget'!B27 -> Name/Role #4 | E28: ='Proposed Budget'!C27 -> 0 | F28: ='Proposed Budget'!D27 -> 0 | O28: =G28+I28+K28+M28 -> 0 | P28: =H28+J28+L28+N28 -> 0 | Q28: =E28-O28 -> 0 | R28: =F28-P28 -> 0
B29: Materials and Supplies Total | E29: =SUM(E30:E33) -> 0 | F29: =SUM(F30:F33) -> 0 | G29: =SUM(G30:G33) -> 0 | H29: =SUM(H30:H33) -> 0 | I29: =SUM(I30:I33) -> 0 | J29: =SUM(J30:J33) -> 0 | K29: =SUM(K30:K33) -> 0 | L29: =SUM(L30:L33) -> 0 | ... N29: =SUM(N30:N33) -> 0 | O29: =G29+I29+K29+M29 -> 0 | P29: =H29+J29+L29+N29 -> 0 | Q29: =E29-O29 -> 0 | R29: =F29-P29 -> 0
B30: ='Proposed Budget'!B29 -> Supplies and Expense #1 | E30: ='Proposed Budget'!C29 -> 0 | F30: ='Proposed Budget'!D29 -> 0 | O30: =G30+I30+K30+M30 -> 0 | P30: =H30+J30+L30+N30 -> 0 | Q30: =E30-O30 -> 0 | R30: =F30-P30 -> 0
B31: ='Proposed Budget'!B30 -> Supplies and Expense #2 | E31: ='Proposed Budget'!C30 -> 0 | F31: ='Proposed Budget'!D30 -> 0 | O31: =G31+I31+K31+M31 -> 0 | P31: =H31+J31+L31+N31 -> 0 | Q31: =E31-O31 -> 0 | R31: =F31-P31 -> 0
B32: ='Proposed Budget'!B31 -> Supplies and Expense #3 | E32: ='Proposed Budget'!C31 -> 0 | F32: ='Proposed Budget'!D31 -> 0 | O32: =G32+I32+K32+M32 -> 0 | P32: =H32+J32+L32+N32 -> 0 | Q32: =E32-O32 -> 0 | R32: =F32-P32 -> 0
B33: ='Proposed Budget'!B32 -> Supplies and Expense #4 | E33: ='Proposed Budget'!C32 -> 0 | F33: ='Proposed Budget'!D32 -> 0 | O33: =G33+I33+K33+M33 -> 0 | P33: =H33+J33+L33+N33 -> 0 | Q33: =E33-O33 -> 0 | R33: =F33-P33 -> 0
B34: Other Direct Costs | E34: =SUM(E35:E37) -> 0 | F34: =SUM(F35:F37) -> 0 | G34: =SUM(G35:G37) -> 0 | H34: =SUM(H35:H37) -> 0 | I34: =SUM(I35:I37) -> 0 | J34: =SUM(J35:J37) -> 0 | K34: =SUM(K35:K37) -> 0 | L34: =SUM(L35:L37) -> 0 | ... N34: =SUM(N35:N37) -> 0 | O34: =G34+I34+K34+M34 -> 0 | P34: =H34+J34+L34+N34 -> 0 | Q34: =E34-O34 -> 0 | R34: =F34-P34 -> 0
B35: ='Proposed Budget'!B34 -> Other Direct Cost #1 | E35: ='Proposed Budget'!C34 -> 0 | F35: ='Proposed Budget'!D34 -> 0 | O35: =G35+I35+K35+M35 -> 0 | P35: =H35+J35+L35+N35 -> 0 | Q35: =E35-O35 -> 0 | R35: =F35-P35 -> 0
B36: ='Proposed Budget'!B35 -> Other Direct Cost #2 | E36: ='Proposed Budget'!C35 -> 0 | F36: ='Proposed Budget'!D35 -> 0 | O36: =G36+I36+K36+M36 -> 0 | P36: =H36+J36+L36+N36 -> 0 | Q36: =E36-O36 -> 0 | R36: =F36-P36 -> 0
B37: ='Proposed Budget'!B36 -> Other Direct Cost #3 | E37: ='Proposed Budget'!C36 -> 0 | F37: ='Proposed Budget'!D36 -> 0 | O37: =G37+I37+K37+M37 -> 0 | P37: =H37+J37+L37+N37 -> 0 | Q37: =E37-O37 -> 0 | R37: =F37-P37 -> 0
B38: Indirect Costs | E38: XXXX | F38: =SUM(F39:F40) -> 0 | G38: XXXX | H38: =SUM(H39:H40) -> 0 | I38: XXXX | J38: =SUM(J39:J40) -> 0 | K38: XXXX | L38: =SUM(L39:L40) -> 0 | M38: XXXX | N38: =SUM(N39:N40) -> 0 | O38: XXXX | P38: =H38+J38+L38+N38 -> 0 | Q38: XXXX | R38: =F38-P38 -> 0
B39: Match Only. Include Indirect Rate and basis | E39: XXXX | F39: ='Proposed Budget'!D38 -> 0 | G39: XXXX | I39: XXXX | K39: XXXX | M39: XXXX | O39: XXXX | P39: =H39+J39+L39+N39 -> 0 | Q39: XXXX | R39: =F39-P39 -> 0
B40: ='Proposed Budget'!B39 -> 0 | E40: XXXX | F40: ='Proposed Budget'!D39 -> 0 | G40: XXXX | I40: XXXX | K40: XXXX | M40: XXXX | O40: XXXX | P40: =H40+J40+L40+N40 -> 0 | Q40: XXXX | R40: =F40-P40 -> 0
B41: Total | E41: =E10+E16+E23+E29+E34 -> 0 | F41: =F10+F16+F23+F29+F34+F38 -> 0 | G41: =G10+G16+G23+G29+G34 -> 0 | H41: =H10+H16+H23+H29+H34+H38 -> 0 | I41: =I10+I16+I23+I29+I34 -> 0 | J41: =J10+J16+J23+J29+J34+J38 -> 0 | K41: =K10+K16+K23+K29+K34 -> 0 | L41: =L10+L16+L23+L29+L34+L38 -> 0 | M41: =M10+M16+M23+M29+M34 -> 0 | N41: =N10+N16+N23+N29+N34+N38 -> 0 | O41: =O10+O16+O23+O29+O34 -> 0 | P41: =P10+P16+P23+P29+P34+P38 -> 0 | Q41: =Q10+Q16+Q23+Q29+Q34 -> 0 | R41: =R10+R16+R23+R29+R34+R38 -> 0
...

Sheet Proposed Budget Instructions
B1: 📌 Proposed Budget Checklist
B2: Proposed Budget (WSGC-provided)
B3: Organization {{Institution}}
B4: Period of Performance {{Project Begin Date}} to {{Project End Date}}
B5: Budget Item
B6: Complete each subcategory with budget detail (i.e. Name/Role #1>PI Jane Doe; Location #1>Kenosha, WI; Participant Support Role>John Smith; Materials & Supplies>Petri Dishes; etc.). This information will pre-populate Budget Items on the Invoice Template.
B7: Complete WSGC Federal Funded Activity column with budget information proposed and accepted. This information will pre-populate the Approved Budget WSGC Federal Funded Activity column on the Invoice Template.
B8: Complete Cost-Share/Match In-Kind Funded Activity column with budget information proposed and accepted. This information will pre-populate the Approved Budget Cost-Share/Match In-Kind Funded Activity column on the invoice Template.
B9: The Total column will automatically calculate the sum of the each row

Sheet Invoice Template Instructions
A1: Oct 30 | B1: Jan 30 | C1: Apr 30 | D1: Jul 30 | E1: 📌 Quarterly Invoice Checklist
E2: Compliance
E3: Maintain all financial records through June 22, 2032 or three (3) years after the closeout of NASA Cooperative Agreement #80NSSC2M7122. WSGC reserves audit access rights.
E4: All federal and cost-share expenses must comply with 2 CFR 220 Cost Principles
E5: Invoices due quarterly
E6: Oct 30
E7: Jan 30
E8: Apr 30
E9: Jul 30
E10: Invoice Template (WSGC-provided)
E11: WSGC Award # {{Program_Year}}_{{Award #}}
E12: Period of Performance {{Project Begin Date}} to {{Project End Date}}
E13: Organization {{Institution}}
... E38: Reports may be submitted by the awardee and/or by an authorized user (see link faculty or outreach application to an authorized user)
